BEGIN:VCALENDAR
PRODID:-//PUBBLE//agenda//NL
VERSION:2.0
METHOD:PUBLISH
BEGIN:VEVENT
DTSTART:20260613T080000Z
DTEND:20260613T130000Z
DTSTAMP:20260422T165942Z
UID:4f4f2247-d2d0-48e0-b7f8-8ab03e144f38
CREATED:20260422T165942Z
NAME:Zomermarkt Ederveen Helpt met 60 kramen, activiteiten, kleedjesmarkt, cateringplein, voor het goede doel! edestad.nl
X-WR-CALNAME:Zomermarkt Ederveen Helpt met 60 kramen, activiteiten, kleedjesmarkt, cateringplein, voor het goede doel!
X-ALT-DESC;FMTTYPE=text/html:<a href='/agenda/2026/6/13/zomermarkt-ederveen-helpt-met-60-kramen-activiteiten-kleedjesmarkt-cateringplein-voor-het-goede-doel--1255222'>/agenda/2026/6/13/zomermarkt-ederveen-helpt-met-60-kramen-activiteiten-kleedjesmarkt-cateringplein-voor-het-goede-doel--1255222</a> || <p>Zomermarkt Ederveen Helpt – zaterdag 13 juni 2025 📍 Bij de Calvijnschool, Schoolstraat 9 in Ederveen 🕙 10:00 – 15:00 uur 🎟️ Toegang gratis</p><p><br>De Zomermarkt Ederveen Helpt wordt georganiseerd door Ederveen Helpt, een lokale stichting die zich inzet voor maatschappelijke doelen door middel van diverse acties en evenementen.</p><p><br>Wat kun je verwachten?</p><p>Een gezellige dag voor jong en oud, met onder andere:</p><p>Meer dan 55 kramen met diverse producten</p><p>Een horecaplein met eten en drinken</p><p>Een kleedjesmarkt</p><p>Activiteiten voor jong en oud</p><p>Een online veiling</p><p><br>De volledige opbrengst van de markt gaat naar goede doelen, waaronder De Schutse en Stichting China.</p><p><br>1. De Schutse (Kesteren)</p><p>De Schutse is een reformatorische zorginstelling in Kesteren voor mensen met een verstandelijke beperking of gedragsproblemen. Zij bieden onder andere woonbegeleiding, dagbesteding en onderwijs, waarbij persoonlijke aandacht en christelijke waarden centraal staan.</p><p>De opbrengst van de markt helpt De Schutse bij het financieren van extra voorzieningen en activiteiten die niet uit de reguliere zorgbudgetten betaald kunnen worden.</p><p><br>2. Stichting China</p><p>Stichting China is een interkerkelijke organisatie die sinds 1989 actief is in China om christenen in de Chinese huisgemeenten te ondersteunen. Door jarenlange betrokkenheid is er contact met diverse relaties binnen niet-geregistreerde huisgemeenten.</p><p>De stichting zet zich in voor:</p><p>Vertalen, drukken en verspreiden van reformatorische lectuur</p><p>Opleiding en toerusting van voorgangers</p><p>Steun aan Bijbelscholen</p><p>Schoolprojecten</p><p>Hulp aan straatkinderen</p><p>Kerkbouw</p><p>Diaconale projecten</p><p>Grondslag</p><p>De grondslag van de stichting is de Heilige Schrift als het onfeilbaar Woord van God en de drie Formulieren van Enigheid.</p><p>Stichting China wil christenen in Nederland bewust maken van de nood in China, daadwerkelijk hulp bieden en de vervolgde kerk in het gebed dragen. Donateurs – privé, kerkelijk en vanuit het bedrijfsleven – maken het mogelijk om Bijbels, kinderbijbels en geestelijke lectuur te verspreiden en hulp te bieden aan de allerarmsten, zodat het Evangelie wordt verbreid en zowel geestelijke als materiële nood wordt gelenigd. Uw gebed en gift blijven broodnodig.</p><p><br>💛 Door de Zomermarkt te bezoeken of eraan deel te nemen, draag je direct bij aan deze waardevolle initiatieven. 🌐 Meer info &amp; updates: www.ederveenhelpt.nl</p>
DESCRIPTION:<a href='/agenda/2026/6/13/zomermarkt-ederveen-helpt-met-60-kramen-activiteiten-kleedjesmarkt-cateringplein-voor-het-goede-doel--1255222'>/agenda/2026/6/13/zomermarkt-ederveen-helpt-met-60-kramen-activiteiten-kleedjesmarkt-cateringplein-voor-het-goede-doel--1255222</a> || <p>Zomermarkt Ederveen Helpt – zaterdag 13 juni 2025 📍 Bij de Calvijnschool, Schoolstraat 9 in Ederveen 🕙 10:00 – 15:00 uur 🎟️ Toegang gratis</p><p><br>De Zomermarkt Ederveen Helpt wordt georganiseerd door Ederveen Helpt, een lokale stichting die zich inzet voor maatschappelijke doelen door middel van diverse acties en evenementen.</p><p><br>Wat kun je verwachten?</p><p>Een gezellige dag voor jong en oud, met onder andere:</p><p>Meer dan 55 kramen met diverse producten</p><p>Een horecaplein met eten en drinken</p><p>Een kleedjesmarkt</p><p>Activiteiten voor jong en oud</p><p>Een online veiling</p><p><br>De volledige opbrengst van de markt gaat naar goede doelen, waaronder De Schutse en Stichting China.</p><p><br>1. De Schutse (Kesteren)</p><p>De Schutse is een reformatorische zorginstelling in Kesteren voor mensen met een verstandelijke beperking of gedragsproblemen. Zij bieden onder andere woonbegeleiding, dagbesteding en onderwijs, waarbij persoonlijke aandacht en christelijke waarden centraal staan.</p><p>De opbrengst van de markt helpt De Schutse bij het financieren van extra voorzieningen en activiteiten die niet uit de reguliere zorgbudgetten betaald kunnen worden.</p><p><br>2. Stichting China</p><p>Stichting China is een interkerkelijke organisatie die sinds 1989 actief is in China om christenen in de Chinese huisgemeenten te ondersteunen. Door jarenlange betrokkenheid is er contact met diverse relaties binnen niet-geregistreerde huisgemeenten.</p><p>De stichting zet zich in voor:</p><p>Vertalen, drukken en verspreiden van reformatorische lectuur</p><p>Opleiding en toerusting van voorgangers</p><p>Steun aan Bijbelscholen</p><p>Schoolprojecten</p><p>Hulp aan straatkinderen</p><p>Kerkbouw</p><p>Diaconale projecten</p><p>Grondslag</p><p>De grondslag van de stichting is de Heilige Schrift als het onfeilbaar Woord van God en de drie Formulieren van Enigheid.</p><p>Stichting China wil christenen in Nederland bewust maken van de nood in China, daadwerkelijk hulp bieden en de vervolgde kerk in het gebed dragen. Donateurs – privé, kerkelijk en vanuit het bedrijfsleven – maken het mogelijk om Bijbels, kinderbijbels en geestelijke lectuur te verspreiden en hulp te bieden aan de allerarmsten, zodat het Evangelie wordt verbreid en zowel geestelijke als materiële nood wordt gelenigd. Uw gebed en gift blijven broodnodig.</p><p><br>💛 Door de Zomermarkt te bezoeken of eraan deel te nemen, draag je direct bij aan deze waardevolle initiatieven. 🌐 Meer info &amp; updates: www.ederveenhelpt.nl</p>
LAST-MODIFIED:20260422T165942Z
LOCATION: Calvijnschool | Schoolstraat 9 Ederveen
SEQUENCE:0
STATUS:CONFIRMED
SUMMARY:Zomermarkt Ederveen Helpt met 60 kramen, activiteiten, kleedjesmarkt, cateringplein, voor het goede doel!
TRANSP:OPAQUE
END:VEVENT
END:VCALENDAR
