BEGIN:VCALENDAR
PRODID:-//PUBBLE//agenda//NL
VERSION:2.0
METHOD:PUBLISH
BEGIN:VEVENT
DTSTART:20260606T180000Z
DTEND:20260606T203000Z
DTSTAMP:20260422T165141Z
UID:da646c38-5397-4561-b67e-b9440893a770
CREATED:20260422T165141Z
NAME:Davina Michelle edestad.nl
X-WR-CALNAME:Davina Michelle
X-ALT-DESC;FMTTYPE=text/html:<a href='/agenda/2026/6/6/davina-michelle-1264685'>/agenda/2026/6/6/davina-michelle-1264685</a> || <p>Davina Michelle is een Nederlandse zangeres en songwriter die internationale bekendheid heeft verworven met haar unieke stemgeluid en oprechte muzikaliteit. Na haar doorbraak in 2016 heeft ze meer dan 20 hitsingles uitgebracht en heeft ze zich gevestigd als een van de meest populaire Nederlandse zangeressen van dit moment met miljoenen fans op onder andere TikTok en Instagram. Internationaal is ze niet onopgemerkt gebleven en trad in diverse landen al op als support van onder andere Pink en Maroon 5, ze trad op tijdens het Eurovisie Songfestival in Rotterdam en opende de Grand Prix F1 in Zandvoort.</p><p>Kaarten á €41,00 https://www.openluchttheaterede.nl/programma/06-06-2026-davina-michelle</p>
DESCRIPTION:<a href='/agenda/2026/6/6/davina-michelle-1264685'>/agenda/2026/6/6/davina-michelle-1264685</a> || <p>Davina Michelle is een Nederlandse zangeres en songwriter die internationale bekendheid heeft verworven met haar unieke stemgeluid en oprechte muzikaliteit. Na haar doorbraak in 2016 heeft ze meer dan 20 hitsingles uitgebracht en heeft ze zich gevestigd als een van de meest populaire Nederlandse zangeressen van dit moment met miljoenen fans op onder andere TikTok en Instagram. Internationaal is ze niet onopgemerkt gebleven en trad in diverse landen al op als support van onder andere Pink en Maroon 5, ze trad op tijdens het Eurovisie Songfestival in Rotterdam en opende de Grand Prix F1 in Zandvoort.</p><p>Kaarten á €41,00 https://www.openluchttheaterede.nl/programma/06-06-2026-davina-michelle</p>
LAST-MODIFIED:20260422T165141Z
LOCATION:  Het Openluchttheater | van Pabstlaan 1 Ede
SEQUENCE:0
STATUS:CONFIRMED
SUMMARY:Davina Michelle
TRANSP:OPAQUE
END:VEVENT
END:VCALENDAR
