BEGIN:VCALENDAR
PRODID:-//PUBBLE//agenda//NL
VERSION:2.0
METHOD:PUBLISH
BEGIN:VEVENT
DTSTART:20260613T180000Z
DTEND:20260613T203000Z
DTSTAMP:20260422T165336Z
UID:c42975b4-a266-4e6f-a325-ec384735f0a5
CREATED:20260422T165336Z
NAME:Veldhuis & Kemper edestad.nl
X-WR-CALNAME:Veldhuis & Kemper
X-ALT-DESC;FMTTYPE=text/html:<a href='/agenda/2026/6/13/veldhuis-amp-kemper-1265790'>/agenda/2026/6/13/veldhuis-amp-kemper-1265790</a> || <p>Na een uitverkochte tour keren Veldhuis en Kemper dit seizoen terug met hun voorstelling Kunnen het niet laten.&nbsp;</p><p>Hoeveel roze olifanten heb jij in de kamer staan? Ofwel, wat kan je maar beter niet met familie, vrienden of je partner bespreken omdat het anders gedoe of zelfs ruzie wordt? Voor hun fonkelnieuwe cabaretprogramma hebben Veldhuis &amp; Kemper besloten de roze olifanten allemaal zorgvuldig op te bergen en elkaar helemaal te laten. Allebei lekker in hun eigen safe space. Wel zo rustig. Althans, dat denken ze. Want echte vrienden kunnen elkaar natuurlijk helemaal niet laten. Gelukkig maar voor ons, want het levert weer een hilarische, herkenbare en schurende avond topcabaret op!</p>
DESCRIPTION:<a href='/agenda/2026/6/13/veldhuis-amp-kemper-1265790'>/agenda/2026/6/13/veldhuis-amp-kemper-1265790</a> || <p>Na een uitverkochte tour keren Veldhuis en Kemper dit seizoen terug met hun voorstelling Kunnen het niet laten.&nbsp;</p><p>Hoeveel roze olifanten heb jij in de kamer staan? Ofwel, wat kan je maar beter niet met familie, vrienden of je partner bespreken omdat het anders gedoe of zelfs ruzie wordt? Voor hun fonkelnieuwe cabaretprogramma hebben Veldhuis &amp; Kemper besloten de roze olifanten allemaal zorgvuldig op te bergen en elkaar helemaal te laten. Allebei lekker in hun eigen safe space. Wel zo rustig. Althans, dat denken ze. Want echte vrienden kunnen elkaar natuurlijk helemaal niet laten. Gelukkig maar voor ons, want het levert weer een hilarische, herkenbare en schurende avond topcabaret op!</p>
LAST-MODIFIED:20260422T165336Z
LOCATION:  Het Openluchttheater | van Pabstlaan 1 Ede
SEQUENCE:0
STATUS:CONFIRMED
SUMMARY:Veldhuis & Kemper
TRANSP:OPAQUE
END:VEVENT
END:VCALENDAR
