BEGIN:VCALENDAR
PRODID:-//PUBBLE//agenda//NL
VERSION:2.0
METHOD:PUBLISH
BEGIN:VEVENT
DTSTART:20260425T080000Z
DTEND:20260425T130000Z
DTSTAMP:20260422T165142Z
UID:e69166c7-668c-4665-a198-44fe0675461e
CREATED:20260422T165142Z
NAME:Groen & Fair Plantenmarkt edestad.nl
X-WR-CALNAME:Groen & Fair Plantenmarkt
X-ALT-DESC;FMTTYPE=text/html:<a href='/agenda/2026/4/25/groen-amp-fair-plantenmarkt-1265792'>/agenda/2026/4/25/groen-amp-fair-plantenmarkt-1265792</a> || <p>Biologische moes-en tuinplanten</p><p>Doorlopende kinderworkshop</p><p>Gratis tuinadvies (vanaf 12:30 uur)</p><p>Koffie, thee, limonade, koek, fruit, broodje hamburger en soep met broodje te koop. Opbrengst voor de verbouwing/nieuwbouw van het kerkgebouw.</p>
DESCRIPTION:<a href='/agenda/2026/4/25/groen-amp-fair-plantenmarkt-1265792'>/agenda/2026/4/25/groen-amp-fair-plantenmarkt-1265792</a> || <p>Biologische moes-en tuinplanten</p><p>Doorlopende kinderworkshop</p><p>Gratis tuinadvies (vanaf 12:30 uur)</p><p>Koffie, thee, limonade, koek, fruit, broodje hamburger en soep met broodje te koop. Opbrengst voor de verbouwing/nieuwbouw van het kerkgebouw.</p>
LAST-MODIFIED:20260422T165142Z
LOCATION: Proosdijkerk | Veenderweg 193 Ede
SEQUENCE:0
STATUS:CONFIRMED
SUMMARY:Groen & Fair Plantenmarkt
TRANSP:OPAQUE
END:VEVENT
END:VCALENDAR
