BEGIN:VCALENDAR
PRODID:-//PUBBLE//agenda//NL
VERSION:2.0
METHOD:PUBLISH
BEGIN:VEVENT
DTSTART:20260704T180000Z
DTEND:20260704T203000Z
DTSTAMP:20260422T164314Z
UID:981423ad-ee79-4130-8af5-2a5abbdfe132
CREATED:20260422T164314Z
NAME:Cabaratier Rob Scheepers edestad.nl
X-WR-CALNAME:Cabaratier Rob Scheepers
X-ALT-DESC;FMTTYPE=text/html:<a href='/agenda/2026/7/4/cabaratier-rob-scheepers-1266144'>/agenda/2026/7/4/cabaratier-rob-scheepers-1266144</a> || <p>Op zaterdag 4 juli is het podium voor Rob Scheepers, met zijn show ‘Scheepers op z’n scherpst’. “We zijn de afgelopen jaren een bang volkje geworden. Bang voor de bliksem, terwijl de donder nog in geen velden of wegen te horen is. Dat heeft nu wel lang genoeg geduurd,” volgens Rob. Het is bovendien nergens goed voor. Je zorgen maken om iets wat misschien ooit wellicht zou kúnnen gaan gebeuren is verspilde tijd. Gebruik je energie liever om bij bliksem de gordijnen juist te openen, je kop naar buiten te steken en te gaan dansen in de regen. Want aan het einde van iedere donkere nacht wordt het vanzelf weer licht.</p><p>Na vier avondvullende cabaretprogramma’s én maar liefst zes nieuwjaarsconferences, elk traditioneel afgesloten met een week lang uitverkochte zalen, is het nu tijd om jou een avondje te laten lachen in Ede.</p><p>Kaarten á €28,50 zijn vanaf woensdag 8 april te koop voor (bedrijfs)vrienden en omwonenden en op vrijdag 10 april 10:00 uur voor iedereen via onze website.</p>
DESCRIPTION:<a href='/agenda/2026/7/4/cabaratier-rob-scheepers-1266144'>/agenda/2026/7/4/cabaratier-rob-scheepers-1266144</a> || <p>Op zaterdag 4 juli is het podium voor Rob Scheepers, met zijn show ‘Scheepers op z’n scherpst’. “We zijn de afgelopen jaren een bang volkje geworden. Bang voor de bliksem, terwijl de donder nog in geen velden of wegen te horen is. Dat heeft nu wel lang genoeg geduurd,” volgens Rob. Het is bovendien nergens goed voor. Je zorgen maken om iets wat misschien ooit wellicht zou kúnnen gaan gebeuren is verspilde tijd. Gebruik je energie liever om bij bliksem de gordijnen juist te openen, je kop naar buiten te steken en te gaan dansen in de regen. Want aan het einde van iedere donkere nacht wordt het vanzelf weer licht.</p><p>Na vier avondvullende cabaretprogramma’s én maar liefst zes nieuwjaarsconferences, elk traditioneel afgesloten met een week lang uitverkochte zalen, is het nu tijd om jou een avondje te laten lachen in Ede.</p><p>Kaarten á €28,50 zijn vanaf woensdag 8 april te koop voor (bedrijfs)vrienden en omwonenden en op vrijdag 10 april 10:00 uur voor iedereen via onze website.</p>
LAST-MODIFIED:20260422T164314Z
LOCATION:  Het Openluchttheater | van Pabstlaan 1 Ede
SEQUENCE:0
STATUS:CONFIRMED
SUMMARY:Cabaratier Rob Scheepers
TRANSP:OPAQUE
END:VEVENT
END:VCALENDAR
