BEGIN:VCALENDAR
PRODID:-//PUBBLE//agenda//NL
VERSION:2.0
METHOD:PUBLISH
BEGIN:VEVENT
DTSTART:20260619T180000Z
DTEND:20260627T203000Z
DTSTAMP:20260422T164726Z
UID:ed201f88-43fb-45ae-b36b-c9915e317099
CREATED:20260422T164726Z
NAME:Bee Gees by MainCourse edestad.nl
X-WR-CALNAME:Bee Gees by MainCourse
X-ALT-DESC;FMTTYPE=text/html:<a href='/agenda/2026/6/27/bee-gees-by-maincourse-1266814'>/agenda/2026/6/27/bee-gees-by-maincourse-1266814</a> || <p>Bereid je voor op een avond vol glitter, groove en onvergetelijke hits in Ede. Bee Gees by MainCourse neemt je mee terug naar de gloriedagen van disco en pop met een zinderend eerbetoon aan de legendarische Gibb-broers.</p><p>Onder de naam Bee Gees Forever veroverden de mannen van MainCourse in 2024 heel Nederland door het derde seizoen van The Tribute – Battle of the Bands te winnen. Jury en publiek gingen massaal los, en dat succes bleef niet onopgemerkt.</p><p>In 2026 pakken ze uit met een gloednieuwe show. Van ontroerende ballads tot onweerstaanbare discohits: elk nummer zit vol energie, passie en muzikaal vakmanschap. Reken op meezingen, dansen en pure nostalgie, maar dan met een frisse, eigentijdse twist.</p><p>Kaarten á €39,50 zijn vanaf woensdag 8 april te koop voor (bedrijfs)vrienden en omwonenden en op vrijdag 10 april 10:00 uur voor iedereen via www.openluchttheaterede.nl.</p>
DESCRIPTION:<a href='/agenda/2026/6/27/bee-gees-by-maincourse-1266814'>/agenda/2026/6/27/bee-gees-by-maincourse-1266814</a> || <p>Bereid je voor op een avond vol glitter, groove en onvergetelijke hits in Ede. Bee Gees by MainCourse neemt je mee terug naar de gloriedagen van disco en pop met een zinderend eerbetoon aan de legendarische Gibb-broers.</p><p>Onder de naam Bee Gees Forever veroverden de mannen van MainCourse in 2024 heel Nederland door het derde seizoen van The Tribute – Battle of the Bands te winnen. Jury en publiek gingen massaal los, en dat succes bleef niet onopgemerkt.</p><p>In 2026 pakken ze uit met een gloednieuwe show. Van ontroerende ballads tot onweerstaanbare discohits: elk nummer zit vol energie, passie en muzikaal vakmanschap. Reken op meezingen, dansen en pure nostalgie, maar dan met een frisse, eigentijdse twist.</p><p>Kaarten á €39,50 zijn vanaf woensdag 8 april te koop voor (bedrijfs)vrienden en omwonenden en op vrijdag 10 april 10:00 uur voor iedereen via www.openluchttheaterede.nl.</p>
LAST-MODIFIED:20260422T164726Z
LOCATION:  Het Openluchttheater | van Pabstlaan 1 Ede
SEQUENCE:0
STATUS:CONFIRMED
SUMMARY:Bee Gees by MainCourse
TRANSP:OPAQUE
END:VEVENT
END:VCALENDAR
