BEGIN:VCALENDAR
PRODID:-//PUBBLE//agenda//NL
VERSION:2.0
METHOD:PUBLISH
BEGIN:VEVENT
DTSTART:20260505T100000Z
DTEND:20260505T120000Z
DTSTAMP:20260422T165152Z
UID:ec4f0cd5-04c8-4dd3-8f3f-3c357dc6ae0f
CREATED:20260422T165152Z
NAME:Vrijheidsmaaltijd in de Meerpaal edestad.nl
X-WR-CALNAME:Vrijheidsmaaltijd in de Meerpaal
X-ALT-DESC;FMTTYPE=text/html:<a href='/agenda/2026/5/5/vrijheidsmaaltijd-in-de-meerpaal-1266931'>/agenda/2026/5/5/vrijheidsmaaltijd-in-de-meerpaal-1266931</a> || <p><strong>Uitnodiging voor een bijzondere maaltijd op 5 Mei Vrijheidsmaaltijd – 5 mei Op 5 mei organiseren wij in ons buurthuis een gezellige en verbindende Vrijheidsmaaltijd voor buurtbewoners. In het kader van de landelijke Vrijheidsmaaltijd wordt de soep aangeleverd, bereid door Janny van der Heijden. Deze vullen wij aan met vers stokbrood en huisgemaakte kruidenboter, zodat we samen kunnen genieten van een eenvoudige, maar warme en gastvrije maaltijd. De Vrijheidsmaaltijd staat in het teken van ontmoeting, verbinding en het samen vieren van onze vrijheid. In een ongedwongen en toegankelijke sfeer brengen wij buurtbewoners van verschillende leeftijden en achtergronden samen aan tafel. Tijdens de maaltijd is er ruimte voor gesprek, het delen van persoonlijke verhalen en het stilstaan bij de betekenis van vrijheid – toen en nu. Juist door samen te eten en met elkaar in gesprek te gaan, geven we op een laagdrempelige manier invulling aan deze bijzondere dag. Wij kijken ernaar uit om er samen een waardevolle, warme en verbindende middag/avond van te maken.&nbsp;</strong></p>
DESCRIPTION:<a href='/agenda/2026/5/5/vrijheidsmaaltijd-in-de-meerpaal-1266931'>/agenda/2026/5/5/vrijheidsmaaltijd-in-de-meerpaal-1266931</a> || <p><strong>Uitnodiging voor een bijzondere maaltijd op 5 Mei Vrijheidsmaaltijd – 5 mei Op 5 mei organiseren wij in ons buurthuis een gezellige en verbindende Vrijheidsmaaltijd voor buurtbewoners. In het kader van de landelijke Vrijheidsmaaltijd wordt de soep aangeleverd, bereid door Janny van der Heijden. Deze vullen wij aan met vers stokbrood en huisgemaakte kruidenboter, zodat we samen kunnen genieten van een eenvoudige, maar warme en gastvrije maaltijd. De Vrijheidsmaaltijd staat in het teken van ontmoeting, verbinding en het samen vieren van onze vrijheid. In een ongedwongen en toegankelijke sfeer brengen wij buurtbewoners van verschillende leeftijden en achtergronden samen aan tafel. Tijdens de maaltijd is er ruimte voor gesprek, het delen van persoonlijke verhalen en het stilstaan bij de betekenis van vrijheid – toen en nu. Juist door samen te eten en met elkaar in gesprek te gaan, geven we op een laagdrempelige manier invulling aan deze bijzondere dag. Wij kijken ernaar uit om er samen een waardevolle, warme en verbindende middag/avond van te maken.&nbsp;</strong></p>
LAST-MODIFIED:20260422T165152Z
LOCATION: Buurthuis De Meerpaal | Industrielaan 1 Ede
SEQUENCE:0
STATUS:CONFIRMED
SUMMARY:Vrijheidsmaaltijd in de Meerpaal
TRANSP:OPAQUE
END:VEVENT
END:VCALENDAR
