BEGIN:VCALENDAR
PRODID:-//PUBBLE//agenda//NL
VERSION:2.0
METHOD:PUBLISH
BEGIN:VEVENT
DTSTART:20260421T083000Z
DTEND:20260421T100000Z
DTSTAMP:20260422T165335Z
UID:b8127af3-fdcb-4d5f-a772-1e7efd1ba66b
CREATED:20260422T165335Z
NAME:Op reis met de nieuwe OV-pas edestad.nl
X-WR-CALNAME:Op reis met de nieuwe OV-pas
X-ALT-DESC;FMTTYPE=text/html:<a href='/agenda/2026/4/21/op-reis-met-de-nieuwe-ov-pas-1267450'>/agenda/2026/4/21/op-reis-met-de-nieuwe-ov-pas-1267450</a> || <p>Het betalen in het openbaar vervoer is aan het veranderen. Reizen met trein, bus en tram gaat over op OVpay. In- en uitchecken kan vanaf nu eenvoudig met de nieuwe OV-pas of de betaalpas. Daarmee is OVpay de opvolger van de vertrouwde OV-chipkaart. Loopt de OV-chipkaart binnenkort af? Is er behoefte aan meer informatie over OVpay of hulp nodig bij het aanvragen van een OV-pas? Bezoek dan het gratis OV-inloopspreekuur op:</p><p>Datum: &nbsp; &nbsp; &nbsp; &nbsp; &nbsp; &nbsp;dinsdag 21 april 2026 &nbsp; &nbsp; &nbsp; &nbsp; &nbsp; &nbsp; &nbsp; &nbsp; &nbsp; &nbsp; &nbsp; &nbsp; &nbsp; &nbsp; &nbsp; &nbsp; &nbsp; &nbsp; &nbsp; &nbsp; &nbsp; &nbsp; &nbsp; &nbsp; &nbsp; &nbsp; &nbsp; &nbsp; &nbsp; &nbsp; &nbsp; &nbsp; &nbsp; &nbsp; &nbsp; &nbsp; &nbsp; &nbsp; &nbsp; &nbsp; &nbsp; &nbsp; &nbsp; &nbsp; &nbsp; &nbsp; &nbsp; &nbsp; &nbsp; &nbsp; Tijd: &nbsp; &nbsp; &nbsp; &nbsp; &nbsp; &nbsp; &nbsp; &nbsp; 10.30 – 12.00 uur&nbsp;</p><p>Locatie: &nbsp; &nbsp; &nbsp; &nbsp; &nbsp; Cultura, Molenstraat 45, Ede </p><p>Tijdens een OV-inloopspreekuur kunnen vragen worden gesteld aan OV-ambassadeurs. Zij kunnen meer vertellen over de verschillende vervoersbewijzen, abonnementen en helpen bij het overstappen op OVpay. Loop vrijblijvend binnen, de OV-ambassadeurs nemen rustig de tijd om alle vragen te beantwoorden.</p><p>Martine (67 jaar): “Met het advies van de OV-ambassadeurs op zak heb ik een passend abonnement gekozen en weet ik hoe over te stappen op de nieuwe OV-pas. Fijn om thuis alles nog rustig na te kunnen lezen.”</p><p>Net als Martine eenvoudig en comfortabel reizen met het openbaar vervoer? Kom langs tijdens het inloopspreekuur. Kijk voor meer informatie op www.ervaarhetov.nl/ov-ambassadeur/</p><p>Telefonisch spreekuur</p><p>Liever telefonisch advies? Bel dagelijks met een OV-ambassadeur tijdens het telefonisch spreekuur. Zij zijn bereikbaar op: 038 – 303 70 10.</p><p> Maandag- t/m vrijdagochtend van 10.00 tot 12.00 uur   &nbsp;</p><p>Dinsdag- en donderdagmiddag van 13.30 tot 15.00 uur   &nbsp;</p><p>Maandag- en woensdagavond van 18.30 tot 20.00 uur</p>
DESCRIPTION:<a href='/agenda/2026/4/21/op-reis-met-de-nieuwe-ov-pas-1267450'>/agenda/2026/4/21/op-reis-met-de-nieuwe-ov-pas-1267450</a> || <p>Het betalen in het openbaar vervoer is aan het veranderen. Reizen met trein, bus en tram gaat over op OVpay. In- en uitchecken kan vanaf nu eenvoudig met de nieuwe OV-pas of de betaalpas. Daarmee is OVpay de opvolger van de vertrouwde OV-chipkaart. Loopt de OV-chipkaart binnenkort af? Is er behoefte aan meer informatie over OVpay of hulp nodig bij het aanvragen van een OV-pas? Bezoek dan het gratis OV-inloopspreekuur op:</p><p>Datum: &nbsp; &nbsp; &nbsp; &nbsp; &nbsp; &nbsp;dinsdag 21 april 2026 &nbsp; &nbsp; &nbsp; &nbsp; &nbsp; &nbsp; &nbsp; &nbsp; &nbsp; &nbsp; &nbsp; &nbsp; &nbsp; &nbsp; &nbsp; &nbsp; &nbsp; &nbsp; &nbsp; &nbsp; &nbsp; &nbsp; &nbsp; &nbsp; &nbsp; &nbsp; &nbsp; &nbsp; &nbsp; &nbsp; &nbsp; &nbsp; &nbsp; &nbsp; &nbsp; &nbsp; &nbsp; &nbsp; &nbsp; &nbsp; &nbsp; &nbsp; &nbsp; &nbsp; &nbsp; &nbsp; &nbsp; &nbsp; &nbsp; &nbsp; Tijd: &nbsp; &nbsp; &nbsp; &nbsp; &nbsp; &nbsp; &nbsp; &nbsp; 10.30 – 12.00 uur&nbsp;</p><p>Locatie: &nbsp; &nbsp; &nbsp; &nbsp; &nbsp; Cultura, Molenstraat 45, Ede </p><p>Tijdens een OV-inloopspreekuur kunnen vragen worden gesteld aan OV-ambassadeurs. Zij kunnen meer vertellen over de verschillende vervoersbewijzen, abonnementen en helpen bij het overstappen op OVpay. Loop vrijblijvend binnen, de OV-ambassadeurs nemen rustig de tijd om alle vragen te beantwoorden.</p><p>Martine (67 jaar): “Met het advies van de OV-ambassadeurs op zak heb ik een passend abonnement gekozen en weet ik hoe over te stappen op de nieuwe OV-pas. Fijn om thuis alles nog rustig na te kunnen lezen.”</p><p>Net als Martine eenvoudig en comfortabel reizen met het openbaar vervoer? Kom langs tijdens het inloopspreekuur. Kijk voor meer informatie op www.ervaarhetov.nl/ov-ambassadeur/</p><p>Telefonisch spreekuur</p><p>Liever telefonisch advies? Bel dagelijks met een OV-ambassadeur tijdens het telefonisch spreekuur. Zij zijn bereikbaar op: 038 – 303 70 10.</p><p> Maandag- t/m vrijdagochtend van 10.00 tot 12.00 uur   &nbsp;</p><p>Dinsdag- en donderdagmiddag van 13.30 tot 15.00 uur   &nbsp;</p><p>Maandag- en woensdagavond van 18.30 tot 20.00 uur</p>
LAST-MODIFIED:20260422T165335Z
LOCATION: Cultura | Molenstraat 45 Ede
SEQUENCE:0
STATUS:CONFIRMED
SUMMARY:Op reis met de nieuwe OV-pas
TRANSP:OPAQUE
END:VEVENT
END:VCALENDAR
