BEGIN:VCALENDAR
PRODID:-//PUBBLE//agenda//NL
VERSION:2.0
METHOD:PUBLISH
BEGIN:VEVENT
DTSTART:20260703T180000Z
DTEND:20260703T203000Z
DTSTAMP:20260422T165249Z
UID:35002f83-ee41-4d6e-b2e7-0c560310b67b
CREATED:20260422T165249Z
NAME:Beach Boys’ Best edestad.nl
X-WR-CALNAME:Beach Boys’ Best
X-ALT-DESC;FMTTYPE=text/html:<a href='/agenda/2026/7/3/beach-boys-best-1267688'>/agenda/2026/7/3/beach-boys-best-1267688</a> || <p>De winnaar van seizoen 5 van The Tribute: Battle of the Bands komt naar Ede! Beach Boys’ Best is een ode aan één van de meest invloedrijke bands uit de muziekgeschiedenis: The Beach Boys. De band brengt op vrijdagavond 3 juli een energieke liveshow vol meerstemmige zang en zonnige harmonieën naar ons openluchttheater.Begin jaren ’60 ontstond in Californië een band die een gevoel wist te vangen waar je meteen in zat. The Beach Boys gaven de wereld een soundtrack vol zon, vrijheid en eindeloze zomers. Met Brian Wilson, zijn broers Carl en Dennis, neef Mike Love en vriend Al Jardine ontstond muziek die niet alleen klonk maar voelde.</p><p>Meer dan zestig jaar later brengt Beach Boys’ Best deze muziek terug naar het podium. Met oog voor detail, sterke samenzang en respect voor het originele geluid. Beach Boys’ Best is een tribute aan The Beach Boys die tot in detail klopt. Een liefdevolle ode aan muziek die al meer dan zestig jaar blijft raken.</p><p>Kaarten á €39,50 zijn vanaf vandaag te koop voor (bedrijfs)vrienden en omwonenden en op vrijdag 10 april 10:00 uur voor iedereen via www.openluchttheaterede.nl.</p>
DESCRIPTION:<a href='/agenda/2026/7/3/beach-boys-best-1267688'>/agenda/2026/7/3/beach-boys-best-1267688</a> || <p>De winnaar van seizoen 5 van The Tribute: Battle of the Bands komt naar Ede! Beach Boys’ Best is een ode aan één van de meest invloedrijke bands uit de muziekgeschiedenis: The Beach Boys. De band brengt op vrijdagavond 3 juli een energieke liveshow vol meerstemmige zang en zonnige harmonieën naar ons openluchttheater.Begin jaren ’60 ontstond in Californië een band die een gevoel wist te vangen waar je meteen in zat. The Beach Boys gaven de wereld een soundtrack vol zon, vrijheid en eindeloze zomers. Met Brian Wilson, zijn broers Carl en Dennis, neef Mike Love en vriend Al Jardine ontstond muziek die niet alleen klonk maar voelde.</p><p>Meer dan zestig jaar later brengt Beach Boys’ Best deze muziek terug naar het podium. Met oog voor detail, sterke samenzang en respect voor het originele geluid. Beach Boys’ Best is een tribute aan The Beach Boys die tot in detail klopt. Een liefdevolle ode aan muziek die al meer dan zestig jaar blijft raken.</p><p>Kaarten á €39,50 zijn vanaf vandaag te koop voor (bedrijfs)vrienden en omwonenden en op vrijdag 10 april 10:00 uur voor iedereen via www.openluchttheaterede.nl.</p>
LAST-MODIFIED:20260422T165249Z
LOCATION:  Het Openluchttheater | van Pabstlaan 1 Ede
SEQUENCE:0
STATUS:CONFIRMED
SUMMARY:Beach Boys’ Best
TRANSP:OPAQUE
END:VEVENT
END:VCALENDAR
