BEGIN:VCALENDAR
PRODID:-//PUBBLE//agenda//NL
VERSION:2.0
METHOD:PUBLISH
BEGIN:VEVENT
DTSTART:20260509T180000Z
DTEND:20260509T200000Z
DTSTAMP:20260422T164218Z
UID:006c8d7d-ebf8-4539-8b73-f896068fc553
CREATED:20260422T164218Z
NAME:Vocalise zingt Earth Song edestad.nl
X-WR-CALNAME:Vocalise zingt Earth Song
X-ALT-DESC;FMTTYPE=text/html:<a href='/agenda/2026/5/9/vocalise-zingt-earth-song-1267731'>/agenda/2026/5/9/vocalise-zingt-earth-song-1267731</a> || <p>Laat je meevoeren door klanken van wind, water en Noorderlicht.Tijdens ons bijzondere a capella concert brengen we muziek die de adem van de natuur laat horen en de kracht van de aarde laat voelen. We zingen over vogels, prachtige vlinders,onze mooie aarde etc. Hierbij komen composities aan bod van o.a. Christopher Tin, JohnTavener, Edward Elgar, Frank Ticheli en nog veel meer. Kom luisteren, kom voelen, kom wegdromen en ontdek hoe prachtig de natuur kan klinken….&nbsp;</p><p>Info en tickets op Vocalise.nl</p>
DESCRIPTION:<a href='/agenda/2026/5/9/vocalise-zingt-earth-song-1267731'>/agenda/2026/5/9/vocalise-zingt-earth-song-1267731</a> || <p>Laat je meevoeren door klanken van wind, water en Noorderlicht.Tijdens ons bijzondere a capella concert brengen we muziek die de adem van de natuur laat horen en de kracht van de aarde laat voelen. We zingen over vogels, prachtige vlinders,onze mooie aarde etc. Hierbij komen composities aan bod van o.a. Christopher Tin, JohnTavener, Edward Elgar, Frank Ticheli en nog veel meer. Kom luisteren, kom voelen, kom wegdromen en ontdek hoe prachtig de natuur kan klinken….&nbsp;</p><p>Info en tickets op Vocalise.nl</p>
LAST-MODIFIED:20260422T164218Z
LOCATION: Ontmoetingskerk | Zuilenstein 1 Ede
SEQUENCE:0
STATUS:CONFIRMED
SUMMARY:Vocalise zingt Earth Song
TRANSP:OPAQUE
END:VEVENT
END:VCALENDAR
