BEGIN:VCALENDAR
PRODID:-//PUBBLE//agenda//NL
VERSION:2.0
METHOD:PUBLISH
BEGIN:VEVENT
DTSTART:20260425T120000Z
DTEND:20260514T140000Z
DTSTAMP:20260422T165141Z
UID:6d9b4848-5f1b-4829-b244-bb0249b52e67
CREATED:20260422T165141Z
NAME:Cultuurhistorische wandeling, landgoed Hoekelum edestad.nl
X-WR-CALNAME:Cultuurhistorische wandeling, landgoed Hoekelum
X-ALT-DESC;FMTTYPE=text/html:<a href='/agenda/2026/4/25/cultuurhistorische-wandeling-landgoed-hoekelum-1269327'>/agenda/2026/4/25/cultuurhistorische-wandeling-landgoed-hoekelum-1269327</a> || <p>BENNEKOM - De boswachters van Geldersch Landschap &amp; Kasteelen organiseren op zaterdag 25 april 2026 een&nbsp;cultuurhistorische wandeling op landgoed Hoekelum. Een landgoed dat in het voorjaar ‘ontwaakt’&nbsp;is altijd&nbsp;prachtig om&nbsp;over&nbsp;te wandelen.&nbsp;Hoekelum&nbsp;is een aantrekkelijk landgoed vanwege zijn historie en de verschillende vegetaties. Er zijn naaldbossen, oude beukenlanen en de anderhalve kilometer lange zichtas achter het huis is ook een bijzonderheid. Daarnaast is er het nodige te ontdekken aan vijvers, waterlopen en diverse bouwsels.&nbsp;Kortom, een landgoed dat in het voorjaar&nbsp;veel&nbsp;te bieden heeft. <strong>Vooraf online reserveren is noodzakelijk.</strong></p><p>Tijd: start om 14.00 uur. Duur: ca. 2 uur.&nbsp;</p><p>Deelname: 6,00 euro p.p., kinderen 4 t/m 12 jaar 3,00 euro p.p., donateurs 3,00 euro p.p., kinderen 4 t/m 12 jaar van donateurs 1,50 euro p.p. op vertoon van een geldige GLK donateurspas.&nbsp;</p><p>&nbsp;Meer informatie en online reserveren: <strong>www.glk.nl/excursies</strong></p>
DESCRIPTION:<a href='/agenda/2026/4/25/cultuurhistorische-wandeling-landgoed-hoekelum-1269327'>/agenda/2026/4/25/cultuurhistorische-wandeling-landgoed-hoekelum-1269327</a> || <p>BENNEKOM - De boswachters van Geldersch Landschap &amp; Kasteelen organiseren op zaterdag 25 april 2026 een&nbsp;cultuurhistorische wandeling op landgoed Hoekelum. Een landgoed dat in het voorjaar ‘ontwaakt’&nbsp;is altijd&nbsp;prachtig om&nbsp;over&nbsp;te wandelen.&nbsp;Hoekelum&nbsp;is een aantrekkelijk landgoed vanwege zijn historie en de verschillende vegetaties. Er zijn naaldbossen, oude beukenlanen en de anderhalve kilometer lange zichtas achter het huis is ook een bijzonderheid. Daarnaast is er het nodige te ontdekken aan vijvers, waterlopen en diverse bouwsels.&nbsp;Kortom, een landgoed dat in het voorjaar&nbsp;veel&nbsp;te bieden heeft. <strong>Vooraf online reserveren is noodzakelijk.</strong></p><p>Tijd: start om 14.00 uur. Duur: ca. 2 uur.&nbsp;</p><p>Deelname: 6,00 euro p.p., kinderen 4 t/m 12 jaar 3,00 euro p.p., donateurs 3,00 euro p.p., kinderen 4 t/m 12 jaar van donateurs 1,50 euro p.p. op vertoon van een geldige GLK donateurspas.&nbsp;</p><p>&nbsp;Meer informatie en online reserveren: <strong>www.glk.nl/excursies</strong></p>
LAST-MODIFIED:20260422T165141Z
LOCATION: Kasteel Hoekelum | Edeseweg 124 Bennekom
SEQUENCE:0
STATUS:CONFIRMED
SUMMARY:Cultuurhistorische wandeling, landgoed Hoekelum
TRANSP:OPAQUE
END:VEVENT
END:VCALENDAR
