BEGIN:VCALENDAR
PRODID:-//PUBBLE//agenda//NL
VERSION:2.0
METHOD:PUBLISH
BEGIN:VEVENT
DTSTART:20260612T180000Z
DTEND:20260612T200000Z
DTSTAMP:20260422T165234Z
UID:bdb33ad8-6221-44f1-9346-916852276d4d
CREATED:20260422T165234Z
NAME:Muziek ontmoet wetenschap edestad.nl
X-WR-CALNAME:Muziek ontmoet wetenschap
X-ALT-DESC;FMTTYPE=text/html:<a href='/agenda/2026/6/12/muziek-ontmoet-wetenschap-1269330'>/agenda/2026/6/12/muziek-ontmoet-wetenschap-1269330</a> || <p>Vanwege het overweldigende succes van de eerste editie organiseren we, op uitnodiging van rector magnificus Carolien Kroeze, op 12 en 13 juni 2026 de tweede editie van ons SDG-concert in gebouw Omnia op de Wageningse campus. De Sustainable Development Goals (SDG’s) zijn zeventien doelen om van de wereld een betere plek te maken in 2030. Overal ter wereld wordt aan deze doelen gewerkt en uiteraard ook op de campus van Wageningen. Samen met het Wageningen Global Sustainability Programme organiseren we opnieuw een bijzonder SDG concert – immers, de es, de d en de g zijn ook muzieknoten!</p><p>Vier professoren, Edith Feskens, Sijmen Schoustra, Hester Biemans en Cathelijne Stoof, vertellen&nbsp;sprankelende verhalen&nbsp;die te maken hebben met de SDG’s. Hoe kan een drinkyoghurt in Zambia bijdragen aan de emancipatie van vrouwen? Hoe kan het dat natuurbranden een steeds grotere impact hebben? Wist u dat de wereld een derde pool heeft, en hoe belangrijk die is voor de voedselvoorziening van miljoenen mensen? En hoe kan de wereld gezond eten?</p><p>De muziek draagt de boodschap van de wetenschappers verder uit. Zo worden de verhalen afgewisseld met de stralende&nbsp;opening van de opera Estrella van Berwald, het eigenzinnige&nbsp;Trois morceaux en forme de poire van Erik Satie&nbsp;in orkestversie, het majestueuze&nbsp;vierde deel uit de Rheinische symfonie van Robert Schumann, de krachtige&nbsp;eerste ouverture van Louise Farrenc&nbsp;en de spectaculaire&nbsp;Ritual Fire Dance van Manuel de Falla.</p><p>Wij verwelkomen u graag bij dit bijzondere evenement! Voorafgaand aan het concert is er de mogelijkheid te genieten van een luxe driegangendiner met lokale producten, geserveerd in restaurant Novum, ook in het gebouw Omnia. Op onze site is hierover meer informatie te vinden.</p><p>Musici &nbsp; &nbsp; &nbsp; &nbsp; &nbsp; &nbsp; &nbsp; &nbsp; &nbsp; &nbsp; &nbsp; &nbsp; &nbsp; &nbsp; &nbsp; &nbsp; &nbsp; &nbsp; &nbsp; &nbsp; &nbsp; &nbsp; &nbsp; &nbsp; &nbsp; &nbsp; &nbsp; &nbsp; &nbsp; &nbsp; &nbsp; &nbsp; &nbsp; &nbsp; &nbsp; &nbsp; &nbsp; &nbsp; &nbsp; &nbsp; &nbsp; &nbsp; &nbsp; &nbsp; &nbsp; &nbsp; &nbsp;</p><p>Symfonieorkest Sonante&nbsp; &nbsp; &nbsp; &nbsp; &nbsp; &nbsp; &nbsp; &nbsp; &nbsp; &nbsp; &nbsp; &nbsp; &nbsp; &nbsp; &nbsp; &nbsp; &nbsp; &nbsp; &nbsp; &nbsp; &nbsp; &nbsp; &nbsp; &nbsp; &nbsp; &nbsp; &nbsp; &nbsp; &nbsp; &nbsp; &nbsp; &nbsp; &nbsp; &nbsp; &nbsp; &nbsp; &nbsp; &nbsp; &nbsp; &nbsp; &nbsp; &nbsp; &nbsp; &nbsp; &nbsp; &nbsp; &nbsp; &nbsp; &nbsp; &nbsp; &nbsp; &nbsp; &nbsp; &nbsp; &nbsp; &nbsp; &nbsp; &nbsp;Mark Snitselaar dirigent &nbsp; &nbsp; &nbsp; &nbsp; &nbsp; &nbsp; &nbsp; &nbsp; &nbsp; &nbsp; &nbsp; &nbsp; &nbsp; &nbsp; &nbsp; &nbsp; &nbsp; &nbsp; &nbsp; &nbsp; &nbsp; &nbsp; &nbsp; &nbsp; &nbsp; &nbsp; &nbsp; &nbsp; &nbsp; &nbsp; &nbsp; &nbsp; &nbsp; &nbsp; &nbsp; &nbsp; &nbsp; &nbsp; &nbsp; &nbsp; &nbsp; &nbsp; &nbsp;</p>
DESCRIPTION:<a href='/agenda/2026/6/12/muziek-ontmoet-wetenschap-1269330'>/agenda/2026/6/12/muziek-ontmoet-wetenschap-1269330</a> || <p>Vanwege het overweldigende succes van de eerste editie organiseren we, op uitnodiging van rector magnificus Carolien Kroeze, op 12 en 13 juni 2026 de tweede editie van ons SDG-concert in gebouw Omnia op de Wageningse campus. De Sustainable Development Goals (SDG’s) zijn zeventien doelen om van de wereld een betere plek te maken in 2030. Overal ter wereld wordt aan deze doelen gewerkt en uiteraard ook op de campus van Wageningen. Samen met het Wageningen Global Sustainability Programme organiseren we opnieuw een bijzonder SDG concert – immers, de es, de d en de g zijn ook muzieknoten!</p><p>Vier professoren, Edith Feskens, Sijmen Schoustra, Hester Biemans en Cathelijne Stoof, vertellen&nbsp;sprankelende verhalen&nbsp;die te maken hebben met de SDG’s. Hoe kan een drinkyoghurt in Zambia bijdragen aan de emancipatie van vrouwen? Hoe kan het dat natuurbranden een steeds grotere impact hebben? Wist u dat de wereld een derde pool heeft, en hoe belangrijk die is voor de voedselvoorziening van miljoenen mensen? En hoe kan de wereld gezond eten?</p><p>De muziek draagt de boodschap van de wetenschappers verder uit. Zo worden de verhalen afgewisseld met de stralende&nbsp;opening van de opera Estrella van Berwald, het eigenzinnige&nbsp;Trois morceaux en forme de poire van Erik Satie&nbsp;in orkestversie, het majestueuze&nbsp;vierde deel uit de Rheinische symfonie van Robert Schumann, de krachtige&nbsp;eerste ouverture van Louise Farrenc&nbsp;en de spectaculaire&nbsp;Ritual Fire Dance van Manuel de Falla.</p><p>Wij verwelkomen u graag bij dit bijzondere evenement! Voorafgaand aan het concert is er de mogelijkheid te genieten van een luxe driegangendiner met lokale producten, geserveerd in restaurant Novum, ook in het gebouw Omnia. Op onze site is hierover meer informatie te vinden.</p><p>Musici &nbsp; &nbsp; &nbsp; &nbsp; &nbsp; &nbsp; &nbsp; &nbsp; &nbsp; &nbsp; &nbsp; &nbsp; &nbsp; &nbsp; &nbsp; &nbsp; &nbsp; &nbsp; &nbsp; &nbsp; &nbsp; &nbsp; &nbsp; &nbsp; &nbsp; &nbsp; &nbsp; &nbsp; &nbsp; &nbsp; &nbsp; &nbsp; &nbsp; &nbsp; &nbsp; &nbsp; &nbsp; &nbsp; &nbsp; &nbsp; &nbsp; &nbsp; &nbsp; &nbsp; &nbsp; &nbsp; &nbsp;</p><p>Symfonieorkest Sonante&nbsp; &nbsp; &nbsp; &nbsp; &nbsp; &nbsp; &nbsp; &nbsp; &nbsp; &nbsp; &nbsp; &nbsp; &nbsp; &nbsp; &nbsp; &nbsp; &nbsp; &nbsp; &nbsp; &nbsp; &nbsp; &nbsp; &nbsp; &nbsp; &nbsp; &nbsp; &nbsp; &nbsp; &nbsp; &nbsp; &nbsp; &nbsp; &nbsp; &nbsp; &nbsp; &nbsp; &nbsp; &nbsp; &nbsp; &nbsp; &nbsp; &nbsp; &nbsp; &nbsp; &nbsp; &nbsp; &nbsp; &nbsp; &nbsp; &nbsp; &nbsp; &nbsp; &nbsp; &nbsp; &nbsp; &nbsp; &nbsp; &nbsp;Mark Snitselaar dirigent &nbsp; &nbsp; &nbsp; &nbsp; &nbsp; &nbsp; &nbsp; &nbsp; &nbsp; &nbsp; &nbsp; &nbsp; &nbsp; &nbsp; &nbsp; &nbsp; &nbsp; &nbsp; &nbsp; &nbsp; &nbsp; &nbsp; &nbsp; &nbsp; &nbsp; &nbsp; &nbsp; &nbsp; &nbsp; &nbsp; &nbsp; &nbsp; &nbsp; &nbsp; &nbsp; &nbsp; &nbsp; &nbsp; &nbsp; &nbsp; &nbsp; &nbsp; &nbsp;</p>
LAST-MODIFIED:20260422T165234Z
LOCATION: Gebouw Impuls Wageningen Universiteit Campus | Stippeneng  Wageningen
SEQUENCE:0
STATUS:CONFIRMED
SUMMARY:Muziek ontmoet wetenschap
TRANSP:OPAQUE
END:VEVENT
END:VCALENDAR
