BEGIN:VCALENDAR
PRODID:-//PUBBLE//agenda//NL
VERSION:2.0
METHOD:PUBLISH
BEGIN:VEVENT
DTSTART:20260507T080000Z
DTEND:20260507T100000Z
DTSTAMP:20260422T165249Z
UID:638ee66b-ae9b-4bda-a0b1-746266789bb2
CREATED:20260422T165249Z
NAME:Ga mee op proefreis met het openbaar vervoer edestad.nl
X-WR-CALNAME:Ga mee op proefreis met het openbaar vervoer
X-ALT-DESC;FMTTYPE=text/html:<a href='/agenda/2026/5/7/ga-mee-op-proefreis-met-het-openbaar-vervoer-1269393'>/agenda/2026/5/7/ga-mee-op-proefreis-met-het-openbaar-vervoer-1269393</a> || <p>Plannen voor een dagje uit, maar is reizen met het openbaar vervoer niet (meer) vanzelfsprekend? Onzekerheid na lange tijd niet met bus of trein te hebben gereisd, kan een drempel vormen om op pad te gaan. Een proefreis samen met een ervaren OV-ambassadeur biedt een laagdrempelige en prettige manier om het reizen met het openbaar vervoer weer te oefenen. De volgende OV-proefreis wordt gehouden op:</p><p>Wanneer: donderdag 7 mei 2026</p><p>Waar: Ede</p><p>Startplaats en -tijd: Na aanmelding wordt de exacte opstapplaats en aanvangstijd gedeeld</p><p>Meenemen: OV-chipkaart, OV-pas en/of bankpas waarmee contactloos kan worden betaald</p><p>Inge (67 jaar): “Samen met een OV-ambassadeur heb ik de reisplanner-app en OVpay op m’n telefoon gezet en ermee geoefend. Nu reis ik regelmatig met de bus naar de stad.”</p><p>De OV-ambassadeur kiest een traject waarbij er met zowel de trein als met de bus wordt gereisd. Tijdens de reis wordt alles uitgebreid uitgelegd en er is voldoende tijd om vragen te stellen. De proefreis geeft vertrouwen om daarna zelfstandig te kunnen reizen.</p><p>Aanmelden</p><p>Deelname aan de proefreis is gratis, de reiskosten zijn voor eigen rekening. Aanmelden kan via ov-ambassadeur@ervaarhetov.nl, door te bellen naar 038 – 45 40 130 en via de website www.ervaarhetov.nl/ov-ambassadeur</p>
DESCRIPTION:<a href='/agenda/2026/5/7/ga-mee-op-proefreis-met-het-openbaar-vervoer-1269393'>/agenda/2026/5/7/ga-mee-op-proefreis-met-het-openbaar-vervoer-1269393</a> || <p>Plannen voor een dagje uit, maar is reizen met het openbaar vervoer niet (meer) vanzelfsprekend? Onzekerheid na lange tijd niet met bus of trein te hebben gereisd, kan een drempel vormen om op pad te gaan. Een proefreis samen met een ervaren OV-ambassadeur biedt een laagdrempelige en prettige manier om het reizen met het openbaar vervoer weer te oefenen. De volgende OV-proefreis wordt gehouden op:</p><p>Wanneer: donderdag 7 mei 2026</p><p>Waar: Ede</p><p>Startplaats en -tijd: Na aanmelding wordt de exacte opstapplaats en aanvangstijd gedeeld</p><p>Meenemen: OV-chipkaart, OV-pas en/of bankpas waarmee contactloos kan worden betaald</p><p>Inge (67 jaar): “Samen met een OV-ambassadeur heb ik de reisplanner-app en OVpay op m’n telefoon gezet en ermee geoefend. Nu reis ik regelmatig met de bus naar de stad.”</p><p>De OV-ambassadeur kiest een traject waarbij er met zowel de trein als met de bus wordt gereisd. Tijdens de reis wordt alles uitgebreid uitgelegd en er is voldoende tijd om vragen te stellen. De proefreis geeft vertrouwen om daarna zelfstandig te kunnen reizen.</p><p>Aanmelden</p><p>Deelname aan de proefreis is gratis, de reiskosten zijn voor eigen rekening. Aanmelden kan via ov-ambassadeur@ervaarhetov.nl, door te bellen naar 038 – 45 40 130 en via de website www.ervaarhetov.nl/ov-ambassadeur</p>
LAST-MODIFIED:20260422T165249Z
LOCATION: Station Ede Wageningen | stationsweg  Ede
SEQUENCE:0
STATUS:CONFIRMED
SUMMARY:Ga mee op proefreis met het openbaar vervoer
TRANSP:OPAQUE
END:VEVENT
END:VCALENDAR
