BEGIN:VCALENDAR
PRODID:-//PUBBLE//agenda//NL
VERSION:2.0
METHOD:PUBLISH
BEGIN:VEVENT
DTSTART:20260516T163000Z
DTEND:20260516T190000Z
DTSTAMP:20260422T165107Z
UID:928d54b7-d82f-4ddb-a27d-9e6a73fcfdcd
CREATED:20260422T165107Z
NAME:Proeven in de Mauritskazerne - een unieke dinerbeleving edestad.nl
X-WR-CALNAME:Proeven in de Mauritskazerne - een unieke dinerbeleving
X-ALT-DESC;FMTTYPE=text/html:<a href='/agenda/2026/5/16/proeven-in-de-mauritskazerne-een-unieke-dinerbeleving-1269439'>/agenda/2026/5/16/proeven-in-de-mauritskazerne-een-unieke-dinerbeleving-1269439</a> || <p>Proeven in de Mauritskazerne is een diner experience: een 3-gangendiner met een beleving waarbij al je zintuigen worden geprikkeld. Luister, kijk, ruik, voel en proef; maak je klaar voor smaakbeleving op je bord en een vleugje visuele magie. Terwijl je geniet van de lekkerste (lokale) gerechten, ga je op een 360°-reis door de wereld van ons eten. Maak kennis met vertical superfoods, neem een kijkje in een fungi farm en vlieg mee met de honingbij. We heten je graag iedere zaterdag welkom voor een 2-uur durende experience vol smaak, kennis én inspiratie.</p><p>3-gangendiner inclusief wijn, bier of frisdrank van €49,50 voor €39,50</p><p>Reserveer via; www.mauritskazerne.nl/proeven-in-de-mauritskazerne</p>
DESCRIPTION:<a href='/agenda/2026/5/16/proeven-in-de-mauritskazerne-een-unieke-dinerbeleving-1269439'>/agenda/2026/5/16/proeven-in-de-mauritskazerne-een-unieke-dinerbeleving-1269439</a> || <p>Proeven in de Mauritskazerne is een diner experience: een 3-gangendiner met een beleving waarbij al je zintuigen worden geprikkeld. Luister, kijk, ruik, voel en proef; maak je klaar voor smaakbeleving op je bord en een vleugje visuele magie. Terwijl je geniet van de lekkerste (lokale) gerechten, ga je op een 360°-reis door de wereld van ons eten. Maak kennis met vertical superfoods, neem een kijkje in een fungi farm en vlieg mee met de honingbij. We heten je graag iedere zaterdag welkom voor een 2-uur durende experience vol smaak, kennis én inspiratie.</p><p>3-gangendiner inclusief wijn, bier of frisdrank van €49,50 voor €39,50</p><p>Reserveer via; www.mauritskazerne.nl/proeven-in-de-mauritskazerne</p>
LAST-MODIFIED:20260422T165107Z
LOCATION: Mauritskazerne | Nieuwe Kazernelaan 2D  Ede
SEQUENCE:0
STATUS:CONFIRMED
SUMMARY:Proeven in de Mauritskazerne - een unieke dinerbeleving
TRANSP:OPAQUE
END:VEVENT
END:VCALENDAR
