BEGIN:VCALENDAR
PRODID:-//PUBBLE//agenda//NL
VERSION:2.0
METHOD:PUBLISH
BEGIN:VEVENT
DTSTART:20260426T223800Z
DTEND:20260427T193000Z
DTSTAMP:20260422T165330Z
UID:d7115b85-cc2b-42c6-a45a-e2c6b00dd53c
CREATED:20260422T165330Z
NAME:Oranje samenzangavond in Kootwijkerbroek edestad.nl
X-WR-CALNAME:Oranje samenzangavond in Kootwijkerbroek
X-ALT-DESC;FMTTYPE=text/html:<a href='/agenda/2026/4/27/oranje-samenzangavond-in-kootwijkerbroek-1269624'>/agenda/2026/4/27/oranje-samenzangavond-in-kootwijkerbroek-1269624</a> || <p>Op D.V. 27 april - Koningsdag - wordt in de Hervormde Kerk te Kootwijkerbroek van 19.30 tot 21.30 uur een samenzangavond gehouden. Tijdens deze avond worden psalmen en vaderlandse liederen gezamenlijk gezongen.</p><p>De muzikale begeleiding is in handen van organist Julian Klok. Voor hem gaat hiermee een langgekoesterde wens in vervulling om een samenzangavond te mogen verzorgen.</p><p>De toegang tot de avond is vrij.Tijdens de bijeenkomst wordt een collecte gehouden. De opbrengst daarvan is bestemd voor Stichting Adullam Zorg, in het bijzonder voor locatie Kroonheim te Uddel.</p><p>Belangstellenden zijn van harte welkom.</p>
DESCRIPTION:<a href='/agenda/2026/4/27/oranje-samenzangavond-in-kootwijkerbroek-1269624'>/agenda/2026/4/27/oranje-samenzangavond-in-kootwijkerbroek-1269624</a> || <p>Op D.V. 27 april - Koningsdag - wordt in de Hervormde Kerk te Kootwijkerbroek van 19.30 tot 21.30 uur een samenzangavond gehouden. Tijdens deze avond worden psalmen en vaderlandse liederen gezamenlijk gezongen.</p><p>De muzikale begeleiding is in handen van organist Julian Klok. Voor hem gaat hiermee een langgekoesterde wens in vervulling om een samenzangavond te mogen verzorgen.</p><p>De toegang tot de avond is vrij.Tijdens de bijeenkomst wordt een collecte gehouden. De opbrengst daarvan is bestemd voor Stichting Adullam Zorg, in het bijzonder voor locatie Kroonheim te Uddel.</p><p>Belangstellenden zijn van harte welkom.</p>
LAST-MODIFIED:20260422T165330Z
LOCATION: Hervormde kerk Kootwijkerbroek | Veluweweg 84 Kootwijkerbroek
SEQUENCE:0
STATUS:CONFIRMED
SUMMARY:Oranje samenzangavond in Kootwijkerbroek
TRANSP:OPAQUE
END:VEVENT
END:VCALENDAR
