BEGIN:VCALENDAR
PRODID:-//PUBBLE//agenda//NL
VERSION:2.0
METHOD:PUBLISH
BEGIN:VEVENT
DTSTART:20260704T110000Z
DTEND:20260704T150000Z
DTSTAMP:20260422T165106Z
UID:82026b11-057a-491b-9ab4-64ad4cd1d30a
CREATED:20260422T165106Z
NAME:4e editie Kinderkermis  bij de Meerpaal edestad.nl
X-WR-CALNAME:4e editie Kinderkermis  bij de Meerpaal
X-ALT-DESC;FMTTYPE=text/html:<a href='/agenda/2026/7/4/4e-editie-kinderkermis-bij-de-meerpaal-1269646'>/agenda/2026/7/4/4e-editie-kinderkermis-bij-de-meerpaal-1269646</a> || <p><strong>Kinderen stralen bij de kinderkermis&nbsp;</strong></p><p><strong>Beste lezer,</strong></p><p><strong>Weet u het nog? Vorig jaar organiseerden wij bij Buurthuis De Meerpaal een geweldige kinderkermis. Meer dan 300 kinderen beleefden een fantastische middag – en natuurlijk genoten ouders, opa’s en oma’s net zo hard mee!</strong></p><p><strong>Ook dit jaar organiseren wij, in samenwerking met de Gemeente Ede, Sportservice De Vallei en Malkander, weer een superleuke kindermiddag vol kermisplezier, sport en spel.</strong></p><p><strong>Datum: 4 juli</strong></p><p><strong>Met onder andere: springkussens, een stormbaan, draaimolen, ballonnenclown, schmink en allerlei creatieve activiteiten.</strong></p><p><strong>Wij vinden het belangrijk dat alle kinderen kunnen meedoen. De kinderkermis is een laagdrempelige ontmoetingsplek waar kinderen samen spelen, plezier maken en nieuwe vriendjes ontmoeten.</strong></p><p><strong>Voor wie?</strong></p><p><strong>Alle kinderen, ouders en opa’s en oma’s uit Ede zijn van harte welkom!</strong></p>
DESCRIPTION:<a href='/agenda/2026/7/4/4e-editie-kinderkermis-bij-de-meerpaal-1269646'>/agenda/2026/7/4/4e-editie-kinderkermis-bij-de-meerpaal-1269646</a> || <p><strong>Kinderen stralen bij de kinderkermis&nbsp;</strong></p><p><strong>Beste lezer,</strong></p><p><strong>Weet u het nog? Vorig jaar organiseerden wij bij Buurthuis De Meerpaal een geweldige kinderkermis. Meer dan 300 kinderen beleefden een fantastische middag – en natuurlijk genoten ouders, opa’s en oma’s net zo hard mee!</strong></p><p><strong>Ook dit jaar organiseren wij, in samenwerking met de Gemeente Ede, Sportservice De Vallei en Malkander, weer een superleuke kindermiddag vol kermisplezier, sport en spel.</strong></p><p><strong>Datum: 4 juli</strong></p><p><strong>Met onder andere: springkussens, een stormbaan, draaimolen, ballonnenclown, schmink en allerlei creatieve activiteiten.</strong></p><p><strong>Wij vinden het belangrijk dat alle kinderen kunnen meedoen. De kinderkermis is een laagdrempelige ontmoetingsplek waar kinderen samen spelen, plezier maken en nieuwe vriendjes ontmoeten.</strong></p><p><strong>Voor wie?</strong></p><p><strong>Alle kinderen, ouders en opa’s en oma’s uit Ede zijn van harte welkom!</strong></p>
LAST-MODIFIED:20260422T165106Z
LOCATION: Buurthuis De Meerpaal | Industrielaan 1 Ede
SEQUENCE:0
STATUS:CONFIRMED
SUMMARY:4e editie Kinderkermis  bij de Meerpaal
TRANSP:OPAQUE
END:VEVENT
END:VCALENDAR
