BEGIN:VCALENDAR
PRODID:-//PUBBLE//agenda//NL
VERSION:2.0
METHOD:PUBLISH
BEGIN:VEVENT
DTSTART:20260521T113000Z
DTEND:20260521T140000Z
DTSTAMP:20260422T165233Z
UID:5a9d00c4-b40d-4f66-92bf-1deb1658013d
CREATED:20260422T165233Z
NAME:Weer horen met een cochleaire implantaat of een CI. edestad.nl
X-WR-CALNAME:Weer horen met een cochleaire implantaat of een CI.
X-ALT-DESC;FMTTYPE=text/html:<a href='/agenda/2026/5/21/weer-horen-met-een-cochleaire-implantaat-of-een-ci--1270155'>/agenda/2026/5/21/weer-horen-met-een-cochleaire-implantaat-of-een-ci--1270155</a> || <p>De Stichting Plots- en Laatdoven opent donderdagmiddag 21 mei (i.v.m. Hemelvaartsdag 1 week later) a.s. de deuren voor gezelligheid, ontmoeting, goeie gesprekken die ertoe doen, activiteiten en informatie. Het inloophuis Ede is er voor plots- en laatdoven, slechthorenden en belangstellenden. In feite zijn alle doven van harte welkom.&nbsp;</p><p>Ben je ernstig slechthorend of doof geworden dan is er vaak maar 1 wens dat je toch weer kunt horen. Misschien kom je dan wel in aanmerking voor een CI (cochleaire implantaat). De spreker Dhr. Henny Epping hebben wij uitgenodigd, die alle ins en outs van een CI ter sprake brengt en open staat voor al jullie vragen.</p><p>Voor meer info: <a href="mailto:inloopede@stichtingplotsdoven.nl">inloopede@stichtingplotsdoven.nl</a></p><p>Inloop 21 mei 2026 van 13.30 u tot 16.00 u</p><p>Adres Het buurtcentrum Het Kernhuis, Parkrand 60 6714 GN EDE.</p>
DESCRIPTION:<a href='/agenda/2026/5/21/weer-horen-met-een-cochleaire-implantaat-of-een-ci--1270155'>/agenda/2026/5/21/weer-horen-met-een-cochleaire-implantaat-of-een-ci--1270155</a> || <p>De Stichting Plots- en Laatdoven opent donderdagmiddag 21 mei (i.v.m. Hemelvaartsdag 1 week later) a.s. de deuren voor gezelligheid, ontmoeting, goeie gesprekken die ertoe doen, activiteiten en informatie. Het inloophuis Ede is er voor plots- en laatdoven, slechthorenden en belangstellenden. In feite zijn alle doven van harte welkom.&nbsp;</p><p>Ben je ernstig slechthorend of doof geworden dan is er vaak maar 1 wens dat je toch weer kunt horen. Misschien kom je dan wel in aanmerking voor een CI (cochleaire implantaat). De spreker Dhr. Henny Epping hebben wij uitgenodigd, die alle ins en outs van een CI ter sprake brengt en open staat voor al jullie vragen.</p><p>Voor meer info: <a href="mailto:inloopede@stichtingplotsdoven.nl">inloopede@stichtingplotsdoven.nl</a></p><p>Inloop 21 mei 2026 van 13.30 u tot 16.00 u</p><p>Adres Het buurtcentrum Het Kernhuis, Parkrand 60 6714 GN EDE.</p>
LAST-MODIFIED:20260422T165233Z
LOCATION: Het Kernhuis | Parkrand 60 Ede
SEQUENCE:0
STATUS:CONFIRMED
SUMMARY:Weer horen met een cochleaire implantaat of een CI.
TRANSP:OPAQUE
END:VEVENT
END:VCALENDAR
