BEGIN:VCALENDAR
PRODID:-//PUBBLE//agenda//NL
VERSION:2.0
METHOD:PUBLISH
BEGIN:VEVENT
DTSTART:20260429T113000Z
DTEND:20260429T133000Z
DTSTAMP:20260422T165153Z
UID:36c6e746-6ec5-4fc9-8720-e3c0673255c1
CREATED:20260422T165153Z
NAME:Kinderactiviteit bij de Proosdij in de meivakantie edestad.nl
X-WR-CALNAME:Kinderactiviteit bij de Proosdij in de meivakantie
X-ALT-DESC;FMTTYPE=text/html:<a href='/agenda/2026/4/29/kinderactiviteit-bij-de-proosdij-in-de-meivakantie-1270168'>/agenda/2026/4/29/kinderactiviteit-bij-de-proosdij-in-de-meivakantie-1270168</a> || <p>Wie een leuke bezigheid zoekt met de (klein)kinderen in de meivakantie:</p><p>Op woensdagmiddag 29 april staan &nbsp;IVN jeugdnatuurgidsen paraat bij publieksboerderij de Proosdij (Floreslaan Ede). &nbsp;(Groot)ouders en kinderen zijn &nbsp;van harte welkom; er is vrije inloop van half 2 tot half 4. Bij mooi weer zijn we buiten, als het te koud is of het regent binnen.</p><p>Als thema is deze keer gekozen voor: Metamorfose. Dat gaat over hoe kikkervisjes in kikkers veranderen, rupsen in vlinders, zaad in planten, meelwormen in torren. Kom gezellig meeknutselen, beestjes bekijken en meer. (Groot)ouders mogen gewoon meedoen.</p><p>Voor kinderen is er limonade, koffie en thee zijn in de Schenkerij te koop.</p><p>Voor meer informatie: Truus van Otterloo, 0318 621059</p>
DESCRIPTION:<a href='/agenda/2026/4/29/kinderactiviteit-bij-de-proosdij-in-de-meivakantie-1270168'>/agenda/2026/4/29/kinderactiviteit-bij-de-proosdij-in-de-meivakantie-1270168</a> || <p>Wie een leuke bezigheid zoekt met de (klein)kinderen in de meivakantie:</p><p>Op woensdagmiddag 29 april staan &nbsp;IVN jeugdnatuurgidsen paraat bij publieksboerderij de Proosdij (Floreslaan Ede). &nbsp;(Groot)ouders en kinderen zijn &nbsp;van harte welkom; er is vrije inloop van half 2 tot half 4. Bij mooi weer zijn we buiten, als het te koud is of het regent binnen.</p><p>Als thema is deze keer gekozen voor: Metamorfose. Dat gaat over hoe kikkervisjes in kikkers veranderen, rupsen in vlinders, zaad in planten, meelwormen in torren. Kom gezellig meeknutselen, beestjes bekijken en meer. (Groot)ouders mogen gewoon meedoen.</p><p>Voor kinderen is er limonade, koffie en thee zijn in de Schenkerij te koop.</p><p>Voor meer informatie: Truus van Otterloo, 0318 621059</p>
LAST-MODIFIED:20260422T165153Z
LOCATION: Kinderboerderij de Proosdij | Proosdijweg 41 Ede
SEQUENCE:0
STATUS:CONFIRMED
SUMMARY:Kinderactiviteit bij de Proosdij in de meivakantie
TRANSP:OPAQUE
END:VEVENT
END:VCALENDAR
