BEGIN:VCALENDAR
PRODID:-//PUBBLE//agenda//NL
VERSION:2.0
METHOD:PUBLISH
BEGIN:VEVENT
DTSTART:20260506T123000Z
DTEND:20260506T143000Z
DTSTAMP:20260422T165142Z
UID:408110ef-ac01-441d-b8dc-141e0917bae2
CREATED:20260422T165142Z
NAME:Daniël van den Bos vertelt over ‘Baggergoud’ bij ANBO-PCOB Ede-Lunteren edestad.nl
X-WR-CALNAME:Daniël van den Bos vertelt over ‘Baggergoud’ bij ANBO-PCOB Ede-Lunteren
X-ALT-DESC;FMTTYPE=text/html:<a href='/agenda/2026/5/6/daniel-van-den-bos-vertelt-over-baggergoud-bij-anbo-pcob-ede-lunteren-1270641'>/agenda/2026/5/6/daniel-van-den-bos-vertelt-over-baggergoud-bij-anbo-pcob-ede-lunteren-1270641</a> || <p>Daniël van den Bos (1952) studeerde rechtsgeleerdheid in Utrecht en werkte tot zijn pensioen als docent recht bij de Christelijke Hogeschool Ede. Op bol.com vind je alle boeken van hem, waaronder het nieuwste boek ‘Baggergoud’. Als in 1946 bij het uitdiepen van de vaargeul in de Nieuwe Waterweg bij Vlaardingen goud wordt opgebaggerd, wordt Nederland met een schok wakker. Wat was de geheime missie van de Loodsboot 19 tijdens de eerste twee oorlogsdagen? Van wie is dat goud, dat al jarenlang sluimerde op de rivierbodem? Dit is het waargebeurde verhaal over een ramp, die veel Maassluise families in rouw dompelde. Een goudstaaf raakt voor altijd zoek in Antwerpen. Waren de betrokkenen goed of fout in de oorlog? Het recht krijgt zijn loop, celdeuren worden gesloten, maar de goudkoorts gaat niet liggen.</p><p>Wanneer: woensdag 6 mei, 14:30u – 16:30u</p><p>Waar: Zalencentrum Rehoboth, Driehoek 11, Ede</p><p>Toegankelijk voor leden én niet-leden. Aanmelden is niet nodig.</p><p>U bent van harte welkom.</p>
DESCRIPTION:<a href='/agenda/2026/5/6/daniel-van-den-bos-vertelt-over-baggergoud-bij-anbo-pcob-ede-lunteren-1270641'>/agenda/2026/5/6/daniel-van-den-bos-vertelt-over-baggergoud-bij-anbo-pcob-ede-lunteren-1270641</a> || <p>Daniël van den Bos (1952) studeerde rechtsgeleerdheid in Utrecht en werkte tot zijn pensioen als docent recht bij de Christelijke Hogeschool Ede. Op bol.com vind je alle boeken van hem, waaronder het nieuwste boek ‘Baggergoud’. Als in 1946 bij het uitdiepen van de vaargeul in de Nieuwe Waterweg bij Vlaardingen goud wordt opgebaggerd, wordt Nederland met een schok wakker. Wat was de geheime missie van de Loodsboot 19 tijdens de eerste twee oorlogsdagen? Van wie is dat goud, dat al jarenlang sluimerde op de rivierbodem? Dit is het waargebeurde verhaal over een ramp, die veel Maassluise families in rouw dompelde. Een goudstaaf raakt voor altijd zoek in Antwerpen. Waren de betrokkenen goed of fout in de oorlog? Het recht krijgt zijn loop, celdeuren worden gesloten, maar de goudkoorts gaat niet liggen.</p><p>Wanneer: woensdag 6 mei, 14:30u – 16:30u</p><p>Waar: Zalencentrum Rehoboth, Driehoek 11, Ede</p><p>Toegankelijk voor leden én niet-leden. Aanmelden is niet nodig.</p><p>U bent van harte welkom.</p>
LAST-MODIFIED:20260422T165142Z
LOCATION: Kerkelijk Zalencentrum Rehoboth | Driehoek 11 Ede
SEQUENCE:0
STATUS:CONFIRMED
SUMMARY:Daniël van den Bos vertelt over ‘Baggergoud’ bij ANBO-PCOB Ede-Lunteren
TRANSP:OPAQUE
END:VEVENT
END:VCALENDAR
