BEGIN:VCALENDAR
PRODID:-//PUBBLE//agenda//NL
VERSION:2.0
METHOD:PUBLISH
BEGIN:VEVENT
DTSTART:20260423T070000Z
DTEND:20260423T090000Z
DTSTAMP:20260422T165250Z
UID:3c4f9c50-e117-4b7a-9b92-3dd66682c002
CREATED:20260422T165250Z
NAME:Vogels zoeken en herkennen; super spannend! edestad.nl
X-WR-CALNAME:Vogels zoeken en herkennen; super spannend!
X-ALT-DESC;FMTTYPE=text/html:<a href='/agenda/2026/4/23/vogels-zoeken-en-herkennen-super-spannend--1270758'>/agenda/2026/4/23/vogels-zoeken-en-herkennen-super-spannend--1270758</a> || <p>Ga mee met de vogelexcursie naar “VlinderDas” om te speuren naar voorjaarsvogels. Het is spannend om telkens weer een andere vogelsoort te ontdekken. Maar dat moet zeker lukken in deze bijzondere landbouwenclave. Door het afwisselende landschap met bomen, struiken en landbouwgronden tref je hier veel verschillende vogels aan. Wie weet horen we tuinfluiters of spotten we een grauwe vliegenvanger. Of wat dacht je van een geelgors mannetje waar het diepgeel vanaf spat. Laat je verrassen.</p><p>De excursie wordt georganiseerd om het 80-jarig bestaan van de KNNV-vogelwerkgroep te vieren. Bart Heijne en Ineke van Dis nemen je mee op een wandeltocht door dit natuurgebied. Datum en tijd: 23 april om 9.00 uur tot ongeveer 11.00 uur. Vertrek vanaf de parkeerplaats van Juffrouw Tok, Verlengde Arnhemseweg 101, ten oosten van Ede. Voor last minute vragen bij slecht weer: Ineke 06 50523182.</p>
DESCRIPTION:<a href='/agenda/2026/4/23/vogels-zoeken-en-herkennen-super-spannend--1270758'>/agenda/2026/4/23/vogels-zoeken-en-herkennen-super-spannend--1270758</a> || <p>Ga mee met de vogelexcursie naar “VlinderDas” om te speuren naar voorjaarsvogels. Het is spannend om telkens weer een andere vogelsoort te ontdekken. Maar dat moet zeker lukken in deze bijzondere landbouwenclave. Door het afwisselende landschap met bomen, struiken en landbouwgronden tref je hier veel verschillende vogels aan. Wie weet horen we tuinfluiters of spotten we een grauwe vliegenvanger. Of wat dacht je van een geelgors mannetje waar het diepgeel vanaf spat. Laat je verrassen.</p><p>De excursie wordt georganiseerd om het 80-jarig bestaan van de KNNV-vogelwerkgroep te vieren. Bart Heijne en Ineke van Dis nemen je mee op een wandeltocht door dit natuurgebied. Datum en tijd: 23 april om 9.00 uur tot ongeveer 11.00 uur. Vertrek vanaf de parkeerplaats van Juffrouw Tok, Verlengde Arnhemseweg 101, ten oosten van Ede. Voor last minute vragen bij slecht weer: Ineke 06 50523182.</p>
LAST-MODIFIED:20260422T165250Z
LOCATION: Natuurcentrum De Ginkel | Groot Ginkelseweg  Ede
SEQUENCE:0
STATUS:CONFIRMED
SUMMARY:Vogels zoeken en herkennen; super spannend!
TRANSP:OPAQUE
END:VEVENT
END:VCALENDAR
