BEGIN:VCALENDAR
PRODID:-//PUBBLE//agenda//NL
VERSION:2.0
METHOD:PUBLISH
BEGIN:VEVENT
DTSTART:20260331T170000Z
DTEND:20260331T180000Z
DTSTAMP:20260420T150010Z
UID:2f054df0-1bb6-4546-b6bb-437ef038de85
CREATED:20260420T150010Z
NAME:Yin Yoga & Yoga Nidra edestad.nl
X-WR-CALNAME:Yin Yoga & Yoga Nidra
X-ALT-DESC;FMTTYPE=text/html:<a href='/agenda/2026/3/31/yin-yoga-amp-yoga-nidra-1265007'>/agenda/2026/3/31/yin-yoga-amp-yoga-nidra-1265007</a> || <p>Yin Yoga &amp; Yoga Nidra speciaal voor mensen met hersenletsel (NAH), post-Covid, depressie, migraine, burn-out en voor iedereen die verlangt naar ontspanning.</p><p>Vanaf 1 februari zijn we gestart met een nieuwe groep voor Yoga Nidra en Yin Yoga.</p><p>In deze beginfase houden we een proefperiode om te kijken of het fijn is om elkaar eens per twee weken te zien of misschien toch wekelijks. We stemmen dit later samen af, afhankelijk van wat het beste past bij de groep.</p><p>We houden de groep bewust klein, met maximaal 4 deelnemers, zodat er voldoende ruimte en aandacht is voor iedereen.</p><p>Wat neem je mee: Je bent van harte welkom om in warme, comfortabele kleding te komen (het liefst geen spijkerbroek), en neem vooral ook een paar lekkere warme sokken mee – je zult veel liggen en ontspannen, dus het is fijn als je warm blijft. Eventueel diverse lagen kleding.</p><p>Investering in jouw innerlijke reis – Yogales tarieven:&nbsp;</p><p>✨Vanaf 2026 is de prijs per les € 12,50.</p><p>Voor een&nbsp;GRATIS proefles&nbsp;meld je je aan via YogaNAHEde@gmail.com of je kunt gelijk boeken in https://www.momoyoga.com/soulful-serenity/</p><p>Ik hoop dat je hiermee voldoende informatie hebt. Als je nog vragen hebt, laat het me gerust weten op YogaNAHEde@gmail.com.</p><p>Lieve groet,&nbsp;</p><p>Sylvia</p>
DESCRIPTION:<a href='/agenda/2026/3/31/yin-yoga-amp-yoga-nidra-1265007'>/agenda/2026/3/31/yin-yoga-amp-yoga-nidra-1265007</a> || <p>Yin Yoga &amp; Yoga Nidra speciaal voor mensen met hersenletsel (NAH), post-Covid, depressie, migraine, burn-out en voor iedereen die verlangt naar ontspanning.</p><p>Vanaf 1 februari zijn we gestart met een nieuwe groep voor Yoga Nidra en Yin Yoga.</p><p>In deze beginfase houden we een proefperiode om te kijken of het fijn is om elkaar eens per twee weken te zien of misschien toch wekelijks. We stemmen dit later samen af, afhankelijk van wat het beste past bij de groep.</p><p>We houden de groep bewust klein, met maximaal 4 deelnemers, zodat er voldoende ruimte en aandacht is voor iedereen.</p><p>Wat neem je mee: Je bent van harte welkom om in warme, comfortabele kleding te komen (het liefst geen spijkerbroek), en neem vooral ook een paar lekkere warme sokken mee – je zult veel liggen en ontspannen, dus het is fijn als je warm blijft. Eventueel diverse lagen kleding.</p><p>Investering in jouw innerlijke reis – Yogales tarieven:&nbsp;</p><p>✨Vanaf 2026 is de prijs per les € 12,50.</p><p>Voor een&nbsp;GRATIS proefles&nbsp;meld je je aan via YogaNAHEde@gmail.com of je kunt gelijk boeken in https://www.momoyoga.com/soulful-serenity/</p><p>Ik hoop dat je hiermee voldoende informatie hebt. Als je nog vragen hebt, laat het me gerust weten op YogaNAHEde@gmail.com.</p><p>Lieve groet,&nbsp;</p><p>Sylvia</p>
LAST-MODIFIED:20260420T150010Z
LOCATION: Locatie | Pieter de Hooghstraat 54 Ede
SEQUENCE:0
STATUS:CONFIRMED
SUMMARY:Yin Yoga & Yoga Nidra
TRANSP:OPAQUE
END:VEVENT
END:VCALENDAR
