BEGIN:VCALENDAR
PRODID:-//PUBBLE//agenda//NL
VERSION:2.0
METHOD:PUBLISH
BEGIN:VEVENT
DTSTART:20260420T080000Z
DTEND:20260420T092100Z
DTSTAMP:20260420T183539Z
UID:8ac5225f-f7d1-4a88-9f32-6aa26f99e272
CREATED:20260420T183539Z
NAME:Stoelyoga in Ede 🌸 edestad.nl
X-WR-CALNAME:Stoelyoga in Ede 🌸
X-ALT-DESC;FMTTYPE=text/html:<a href='/agenda/2026/4/20/stoelyoga-in-ede--1267237'>/agenda/2026/4/20/stoelyoga-in-ede--1267237</a> || <p>Rust, herstel en zachte beweging</p><p>Vanuit mijn eigen ervaring weet ik hoe belangrijk zachtheid, begrip en veiligheid zijn in herstel. In 2013 heb ik zelf een herseninfarct gehad, waardoor ik leef met niet-aangeboren hersenletsel (NAH). Yoga is voor mij een essentieel onderdeel geweest van mijn persoonlijke revalidatie.</p><p>Juist doordat ik dit pad zelf bewandel, begrijp ik heel goed waar je tegenaan kunt lopen: vermoeidheid, overprikkeling, grenzen die telkens veranderen en het gevoel dat je lichaam niet altijd meewerkt. Daarom vind ik het zo belangrijk dat je je gezien en gehoord voelt in de yoga die je doet.</p><p>De lessen die ik geef zijn geen standaard yogalessen, maar afgestemd op wie jij bent en wat jij op dat moment nodig hebt.</p><p>Ik bied yogalessen aan die gericht zijn op ontspanning, herstel en het luisteren naar je lichaam. De lessen zijn speciaal afgestemd op mensen met niet-aangeboren hersenletsel (NAH), post-Covid, depressie, migraine, burn-out, maar ook voor iedereen die verlangt naar meer rust en balans in het dagelijks leven.</p><p>STOELYOGA – toegankelijk, veilig en in jouw tempo</p><p>Naast Yin Yoga en Yoga Nidra geef ik ook Stoelyoga. Hiervoor heb ik onlangs met veel liefde de Stoelyoga-docentopleiding afgerond. Stoelyoga is een toegankelijke en veilige vorm van yoga waarbij alle oefeningen op of met ondersteuning van een stoel worden gedaan.</p><p>Deze lesvorm is zeer geschikt voor mensen met NAH, post-Covid, vermoeidheidsklachten, beperkte mobiliteit of wanneer yoga op de mat (nog) niet passend voelt.</p><p>We bewegen rustig, met aandacht voor ademhaling, ontspanning en lichaamsbewustzijn – altijd binnen jouw mogelijkheden.</p><p>Prijs: € 10,00 per les</p><p>Wanneer: maandagochtend 10:00 uur</p><p>&nbsp; &nbsp; &nbsp; &nbsp; &nbsp; &nbsp; &nbsp; &nbsp; &nbsp; dinsdagochtend 11:00 uur</p><p>Gratis proefles of vragen: <a href="mailto:stoelyogaede@gmail.com">stoelyogaede@gmail.com</a></p><p>Met hartelijke groet,</p><p>Sylvia</p>
DESCRIPTION:<a href='/agenda/2026/4/20/stoelyoga-in-ede--1267237'>/agenda/2026/4/20/stoelyoga-in-ede--1267237</a> || <p>Rust, herstel en zachte beweging</p><p>Vanuit mijn eigen ervaring weet ik hoe belangrijk zachtheid, begrip en veiligheid zijn in herstel. In 2013 heb ik zelf een herseninfarct gehad, waardoor ik leef met niet-aangeboren hersenletsel (NAH). Yoga is voor mij een essentieel onderdeel geweest van mijn persoonlijke revalidatie.</p><p>Juist doordat ik dit pad zelf bewandel, begrijp ik heel goed waar je tegenaan kunt lopen: vermoeidheid, overprikkeling, grenzen die telkens veranderen en het gevoel dat je lichaam niet altijd meewerkt. Daarom vind ik het zo belangrijk dat je je gezien en gehoord voelt in de yoga die je doet.</p><p>De lessen die ik geef zijn geen standaard yogalessen, maar afgestemd op wie jij bent en wat jij op dat moment nodig hebt.</p><p>Ik bied yogalessen aan die gericht zijn op ontspanning, herstel en het luisteren naar je lichaam. De lessen zijn speciaal afgestemd op mensen met niet-aangeboren hersenletsel (NAH), post-Covid, depressie, migraine, burn-out, maar ook voor iedereen die verlangt naar meer rust en balans in het dagelijks leven.</p><p>STOELYOGA – toegankelijk, veilig en in jouw tempo</p><p>Naast Yin Yoga en Yoga Nidra geef ik ook Stoelyoga. Hiervoor heb ik onlangs met veel liefde de Stoelyoga-docentopleiding afgerond. Stoelyoga is een toegankelijke en veilige vorm van yoga waarbij alle oefeningen op of met ondersteuning van een stoel worden gedaan.</p><p>Deze lesvorm is zeer geschikt voor mensen met NAH, post-Covid, vermoeidheidsklachten, beperkte mobiliteit of wanneer yoga op de mat (nog) niet passend voelt.</p><p>We bewegen rustig, met aandacht voor ademhaling, ontspanning en lichaamsbewustzijn – altijd binnen jouw mogelijkheden.</p><p>Prijs: € 10,00 per les</p><p>Wanneer: maandagochtend 10:00 uur</p><p>&nbsp; &nbsp; &nbsp; &nbsp; &nbsp; &nbsp; &nbsp; &nbsp; &nbsp; dinsdagochtend 11:00 uur</p><p>Gratis proefles of vragen: <a href="mailto:stoelyogaede@gmail.com">stoelyogaede@gmail.com</a></p><p>Met hartelijke groet,</p><p>Sylvia</p>
LAST-MODIFIED:20260420T183539Z
LOCATION: Locatie | Pieter de Hooghstraat 54 Ede
SEQUENCE:0
STATUS:CONFIRMED
SUMMARY:Stoelyoga in Ede 🌸
TRANSP:OPAQUE
END:VEVENT
END:VCALENDAR
